Package: SpatialFeatureExperiment Version: 1.11.1 Maintainer: Lambda Moses MaintainerEmail: dl3764 at columbia.edu git_url: https://git.bioconductor.org/packages/SpatialFeatureExperiment git_branch: devel git_last_commit: 80353da git_last_commit_date: 2025-09-25 21:36:28 -0400 (Thu, 25 Sep 2025)