Package: SpatialExperimentIO Version: 1.1.0 Command: /home/biocbuild/R/R/bin/R CMD INSTALL SpatialExperimentIO StartedAt: 2025-10-23 21:15:23 -0000 (Thu, 23 Oct 2025) EndedAt: 2025-10-23 21:16:03 -0000 (Thu, 23 Oct 2025) EllapsedTime: 39.9 seconds RetCode: 0 Status: OK