Package: SpatialExperimentIO Version: 1.1.0 Command: /home/biocbuild/R/R/bin/R CMD build --keep-empty-dirs --no-resave-data SpatialExperimentIO StartedAt: 2025-10-21 03:21:43 -0000 (Tue, 21 Oct 2025) EndedAt: 2025-10-21 03:22:45 -0000 (Tue, 21 Oct 2025) EllapsedTime: 62.0 seconds RetCode: 0 Status: OK PackageFile: SpatialExperimentIO_1.1.0.tar.gz PackageFileSize: 633.4 KiB