Package: SpatialExperimentIO Version: 1.1.0 Command: /home/biocbuild/bbs-3.22-bioc/R/bin/R CMD check --install=check:SpatialExperimentIO.install-out.txt --library=/home/biocbuild/bbs-3.22-bioc/R/site-library --timings SpatialExperimentIO_1.1.0.tar.gz StartedAt: 2025-10-25 04:27:21 -0400 (Sat, 25 Oct 2025) EndedAt: 2025-10-25 04:31:18 -0400 (Sat, 25 Oct 2025) EllapsedTime: 237.2 seconds RetCode: 0 Status: OK CheckDir: SpatialExperimentIO.Rcheck Warnings: 0