Package: SpatialExperimentIO Version: 1.1.0 Command: /Library/Frameworks/R.framework/Resources/bin/R CMD build --keep-empty-dirs --no-resave-data SpatialExperimentIO StartedAt: 2025-10-24 18:53:29 -0400 (Fri, 24 Oct 2025) EndedAt: 2025-10-24 18:54:26 -0400 (Fri, 24 Oct 2025) EllapsedTime: 57.0 seconds RetCode: 0 Status: OK PackageFile: SpatialExperimentIO_1.1.0.tar.gz PackageFileSize: 608 KiB