Package: SpatialExperimentIO Version: 1.1.0 Command: /Library/Frameworks/R.framework/Resources/bin/R CMD INSTALL SpatialExperimentIO StartedAt: 2025-10-24 15:28:48 -0400 (Fri, 24 Oct 2025) EndedAt: 2025-10-24 15:29:01 -0400 (Fri, 24 Oct 2025) EllapsedTime: 12.8 seconds RetCode: 0 Status: OK