Package: SpatialExperimentIO Version: 1.2.0 Command: /Library/Frameworks/R.framework/Resources/bin/R CMD check --install=check:SpatialExperimentIO.install-out.txt --library=/Library/Frameworks/R.framework/Resources/library --no-vignettes --timings SpatialExperimentIO_1.2.0.tar.gz StartedAt: 2025-11-10 22:31:38 -0500 (Mon, 10 Nov 2025) EndedAt: 2025-11-10 22:33:03 -0500 (Mon, 10 Nov 2025) EllapsedTime: 84.9 seconds RetCode: 0 Status: OK CheckDir: SpatialExperimentIO.Rcheck Warnings: 0