Package: SpatialExperimentIO Version: 1.1.0 Command: /Library/Frameworks/R.framework/Resources/bin/R CMD build --keep-empty-dirs --no-resave-data SpatialExperimentIO StartedAt: 2025-10-24 17:50:24 -0400 (Fri, 24 Oct 2025) EndedAt: 2025-10-24 17:50:45 -0400 (Fri, 24 Oct 2025) EllapsedTime: 20.2 seconds RetCode: 0 Status: OK PackageFile: SpatialExperimentIO_1.1.0.tar.gz PackageFileSize: 608.1 KiB