Package: SpatialExperiment Version: 1.20.0 Command: /home/biocbuild/R/R/bin/R CMD INSTALL SpatialExperiment StartedAt: 2025-11-24 21:26:06 -0000 (Mon, 24 Nov 2025) EndedAt: 2025-11-24 21:26:39 -0000 (Mon, 24 Nov 2025) EllapsedTime: 32.9 seconds RetCode: 0 Status: OK