Package: SpatialExperiment Version: 1.20.0 Command: /home/biocbuild/R/R/bin/R CMD build --keep-empty-dirs --no-resave-data SpatialExperiment StartedAt: 2025-11-25 05:19:52 -0000 (Tue, 25 Nov 2025) EndedAt: 2025-11-25 05:21:12 -0000 (Tue, 25 Nov 2025) EllapsedTime: 79.0 seconds RetCode: 0 Status: OK PackageFile: SpatialExperiment_1.20.0.tar.gz PackageFileSize: 3.697 MiB