Package: SpatialExperiment Version: 1.19.1 Command: /home/biocbuild/bbs-3.22-bioc/R/bin/R CMD check --install=check:SpatialExperiment.install-out.txt --library=/home/biocbuild/bbs-3.22-bioc/R/site-library --timings SpatialExperiment_1.19.1.tar.gz StartedAt: 2025-10-25 04:26:08 -0400 (Sat, 25 Oct 2025) EndedAt: 2025-10-25 04:30:35 -0400 (Sat, 25 Oct 2025) EllapsedTime: 266.2 seconds RetCode: 0 Status: OK CheckDir: SpatialExperiment.Rcheck Warnings: 0