Package: SpatialExperiment Version: 1.19.1 Command: /Library/Frameworks/R.framework/Resources/bin/R CMD INSTALL SpatialExperiment StartedAt: 2025-10-24 15:28:31 -0400 (Fri, 24 Oct 2025) EndedAt: 2025-10-24 15:29:06 -0400 (Fri, 24 Oct 2025) EllapsedTime: 34.7 seconds RetCode: 0 Status: OK