Package: SpatialExperiment Version: 1.19.1 Command: /Library/Frameworks/R.framework/Resources/bin/R CMD INSTALL SpatialExperiment StartedAt: 2025-10-24 15:15:08 -0400 (Fri, 24 Oct 2025) EndedAt: 2025-10-24 15:15:19 -0400 (Fri, 24 Oct 2025) EllapsedTime: 10.5 seconds RetCode: 0 Status: OK