Package: SpatialExperiment Version: 1.19.1 Command: /Library/Frameworks/R.framework/Resources/bin/R CMD build --keep-empty-dirs --no-resave-data SpatialExperiment StartedAt: 2025-10-24 17:50:11 -0400 (Fri, 24 Oct 2025) EndedAt: 2025-10-24 17:50:38 -0400 (Fri, 24 Oct 2025) EllapsedTime: 26.3 seconds RetCode: 0 Status: OK PackageFile: SpatialExperiment_1.19.1.tar.gz PackageFileSize: 5.69 MiB