Package: SpatialDecon Version: 1.19.0 Command: /home/biocbuild/R/R/bin/R CMD build --keep-empty-dirs --no-resave-data SpatialDecon StartedAt: 2025-10-21 03:21:06 -0000 (Tue, 21 Oct 2025) EndedAt: 2025-10-21 03:25:28 -0000 (Tue, 21 Oct 2025) EllapsedTime: 262.1 seconds RetCode: 0 Status: OK PackageFile: SpatialDecon_1.19.0.tar.gz PackageFileSize: 4.385 MiB