Package: SpatialDecon Version: 1.19.0 Command: /home/biocbuild/bbs-3.22-bioc/R/bin/R CMD check --install=check:SpatialDecon.install-out.txt --library=/home/biocbuild/bbs-3.22-bioc/R/site-library --timings SpatialDecon_1.19.0.tar.gz StartedAt: 2025-10-25 04:26:06 -0400 (Sat, 25 Oct 2025) EndedAt: 2025-10-25 04:37:13 -0400 (Sat, 25 Oct 2025) EllapsedTime: 666.6 seconds RetCode: 0 Status: OK CheckDir: SpatialDecon.Rcheck Warnings: 0