Package: SpatialDecon Version: 1.19.0 Command: /Library/Frameworks/R.framework/Resources/bin/R CMD build --keep-empty-dirs --no-resave-data SpatialDecon StartedAt: 2025-10-27 18:46:44 -0400 (Mon, 27 Oct 2025) EndedAt: 2025-10-27 18:49:20 -0400 (Mon, 27 Oct 2025) EllapsedTime: 156.2 seconds RetCode: 0 Status: OK PackageFile: SpatialDecon_1.19.0.tar.gz PackageFileSize: 5.277 MiB