Package: SpatialCPie Version: 1.25.0 Command: /home/biocbuild/bbs-3.22-bioc/R/bin/R CMD INSTALL SpatialCPie StartedAt: 2025-10-24 15:27:52 -0400 (Fri, 24 Oct 2025) EndedAt: 2025-10-24 15:28:17 -0400 (Fri, 24 Oct 2025) EllapsedTime: 24.5 seconds RetCode: 0 Status: OK