Package: SpatialCPie Version: 1.25.0 Command: /home/biocbuild/bbs-3.22-bioc/R/bin/R CMD build --keep-empty-dirs --no-resave-data --md5 SpatialCPie StartedAt: 2025-10-24 20:22:00 -0400 (Fri, 24 Oct 2025) EndedAt: 2025-10-24 20:22:48 -0400 (Fri, 24 Oct 2025) EllapsedTime: 48.0 seconds RetCode: 0 Status: OK PackageFile: SpatialCPie_1.25.0.tar.gz PackageFileSize: 993.3 KiB