Package: SpatialCPie Version: 1.26.0 Command: /Library/Frameworks/R.framework/Resources/bin/R CMD INSTALL SpatialCPie StartedAt: 2025-11-03 15:23:48 -0500 (Mon, 03 Nov 2025) EndedAt: 2025-11-03 15:24:24 -0500 (Mon, 03 Nov 2025) EllapsedTime: 35.6 seconds RetCode: 0 Status: OK