Package: SpatialCPie Version: 1.25.0 Command: /Library/Frameworks/R.framework/Resources/bin/R CMD build --keep-empty-dirs --no-resave-data SpatialCPie StartedAt: 2025-10-26 18:06:17 -0400 (Sun, 26 Oct 2025) EndedAt: 2025-10-26 18:06:35 -0400 (Sun, 26 Oct 2025) EllapsedTime: 18.2 seconds RetCode: 0 Status: OK PackageFile: SpatialCPie_1.25.0.tar.gz PackageFileSize: 1.559 MiB