Package: SparseSignatures Version: 2.19.2 Command: /home/biocbuild/R/R/bin/R CMD INSTALL SparseSignatures StartedAt: 2025-10-23 20:49:48 -0000 (Thu, 23 Oct 2025) EndedAt: 2025-10-23 20:50:40 -0000 (Thu, 23 Oct 2025) EllapsedTime: 51.5 seconds RetCode: 0 Status: OK