Package: SparseSignatures Version: 2.19.2 Command: /home/biocbuild/R/R/bin/R CMD build --keep-empty-dirs --no-resave-data SparseSignatures StartedAt: 2025-10-21 03:20:35 -0000 (Tue, 21 Oct 2025) EndedAt: 2025-10-21 03:21:45 -0000 (Tue, 21 Oct 2025) EllapsedTime: 70.0 seconds RetCode: 1 Status: ERROR PackageFile: None PackageFileSize: NA