Package: SparseSignatures Version: 2.19.2 Command: /home/biocbuild/bbs-3.22-bioc/R/bin/R CMD INSTALL SparseSignatures StartedAt: 2025-10-24 15:38:40 -0400 (Fri, 24 Oct 2025) EndedAt: 2025-10-24 15:39:18 -0400 (Fri, 24 Oct 2025) EllapsedTime: 38.2 seconds RetCode: 0 Status: OK