Package: SparseSignatures Version: 2.19.2 Command: /home/biocbuild/bbs-3.22-bioc/R/bin/R CMD check --install=check:SparseSignatures.install-out.txt --library=/home/biocbuild/bbs-3.22-bioc/R/site-library --timings SparseSignatures_2.19.2.tar.gz StartedAt: 2025-10-25 04:24:51 -0400 (Sat, 25 Oct 2025) EndedAt: 2025-10-25 04:36:16 -0400 (Sat, 25 Oct 2025) EllapsedTime: 684.6 seconds RetCode: 0 Status: OK CheckDir: SparseSignatures.Rcheck Warnings: 0