Package: SparseSignatures Version: 2.19.2 Command: /home/biocbuild/bbs-3.22-bioc/R/bin/R CMD build --keep-empty-dirs --no-resave-data --md5 SparseSignatures StartedAt: 2025-10-24 20:21:40 -0400 (Fri, 24 Oct 2025) EndedAt: 2025-10-24 20:25:25 -0400 (Fri, 24 Oct 2025) EllapsedTime: 225.2 seconds RetCode: 0 Status: OK PackageFile: SparseSignatures_2.19.2.tar.gz PackageFileSize: 1.47 MiB