Package: SparseSignatures Version: 2.19.2 Command: /Library/Frameworks/R.framework/Resources/bin/R CMD build --keep-empty-dirs --no-resave-data SparseSignatures StartedAt: 2025-10-24 18:53:03 -0400 (Fri, 24 Oct 2025) EndedAt: 2025-10-24 18:57:33 -0400 (Fri, 24 Oct 2025) EllapsedTime: 270.3 seconds RetCode: 0 Status: OK PackageFile: SparseSignatures_2.19.2.tar.gz PackageFileSize: 1.462 MiB