Package: SparseSignatures Version: 2.19.2 Command: /Library/Frameworks/R.framework/Resources/bin/R CMD INSTALL SparseSignatures StartedAt: 2025-10-24 15:19:38 -0400 (Fri, 24 Oct 2025) EndedAt: 2025-10-24 15:19:54 -0400 (Fri, 24 Oct 2025) EllapsedTime: 16.9 seconds RetCode: 0 Status: OK