Package: SparseSignatures Version: 2.19.2 Command: rm -rf SparseSignatures.buildbin-libdir && mkdir SparseSignatures.buildbin-libdir && /Users/biocbuild/BBS/utils/build-universal.sh SparseSignatures_2.19.2.tar.gz /Library/Frameworks/R.framework/Resources/bin/R SparseSignatures.buildbin-libdir StartedAt: 2025-10-24 23:20:53 -0400 (Fri, 24 Oct 2025) EndedAt: 2025-10-24 23:21:12 -0400 (Fri, 24 Oct 2025) EllapsedTime: 18.4 seconds RetCode: 0 Status: OK PackageFile: SparseSignatures_2.19.2.tgz PackageFileSize: 1.592 MiB