Package: SparseArray Version: 1.10.1 Command: /home/biocbuild/R/R/bin/R CMD check --install=check:SparseArray.install-out.txt --library=/home/biocbuild/R/R/site-library --no-vignettes --timings SparseArray_1.10.1.tar.gz StartedAt: 2025-11-14 15:01:34 -0000 (Fri, 14 Nov 2025) EndedAt: 2025-11-14 15:08:16 -0000 (Fri, 14 Nov 2025) EllapsedTime: 402.6 seconds RetCode: 0 Status: OK CheckDir: SparseArray.Rcheck Warnings: 0