Package: SparseArray Version: 1.9.1 Command: /Library/Frameworks/R.framework/Resources/bin/R CMD INSTALL SparseArray StartedAt: 2025-10-24 15:24:40 -0400 (Fri, 24 Oct 2025) EndedAt: 2025-10-24 15:25:13 -0400 (Fri, 24 Oct 2025) EllapsedTime: 33.4 seconds RetCode: 0 Status: OK