Package: SparseArray Version: 1.9.1 Command: /Library/Frameworks/R.framework/Resources/bin/R CMD check --install=check:SparseArray.install-out.txt --library=/Library/Frameworks/R.framework/Resources/library --no-vignettes --timings SparseArray_1.9.1.tar.gz StartedAt: 2025-10-25 00:27:21 -0400 (Sat, 25 Oct 2025) EndedAt: 2025-10-25 00:31:40 -0400 (Sat, 25 Oct 2025) EllapsedTime: 259.7 seconds RetCode: 0 Status: OK CheckDir: SparseArray.Rcheck Warnings: 0