Package: SparseArray Version: 1.9.1 Command: /Library/Frameworks/R.framework/Resources/bin/R CMD build --keep-empty-dirs --no-resave-data SparseArray StartedAt: 2025-10-24 18:52:39 -0400 (Fri, 24 Oct 2025) EndedAt: 2025-10-24 18:53:45 -0400 (Fri, 24 Oct 2025) EllapsedTime: 66.2 seconds RetCode: 0 Status: OK PackageFile: SparseArray_1.9.1.tar.gz PackageFileSize: 456.4 KiB