Package: SparseArray Version: 1.9.1 Command: /Library/Frameworks/R.framework/Resources/bin/R CMD INSTALL SparseArray StartedAt: 2025-10-24 15:10:28 -0400 (Fri, 24 Oct 2025) EndedAt: 2025-10-24 15:10:41 -0400 (Fri, 24 Oct 2025) EllapsedTime: 12.5 seconds RetCode: 0 Status: OK