Package: SparseArray Version: 1.9.1 Command: /Library/Frameworks/R.framework/Resources/bin/R CMD build --keep-empty-dirs --no-resave-data SparseArray StartedAt: 2025-10-24 17:49:46 -0400 (Fri, 24 Oct 2025) EndedAt: 2025-10-24 17:50:08 -0400 (Fri, 24 Oct 2025) EllapsedTime: 22.3 seconds RetCode: 0 Status: OK PackageFile: SparseArray_1.9.1.tar.gz PackageFileSize: 456.6 KiB