Package: SpaceTrooper Version: 0.99.49 Command: /home/biocbuild/bbs-3.22-bioc/R/bin/R CMD build --keep-empty-dirs --no-resave-data --md5 SpaceTrooper StartedAt: 2025-10-24 20:19:56 -0400 (Fri, 24 Oct 2025) EndedAt: 2025-10-24 20:21:27 -0400 (Fri, 24 Oct 2025) EllapsedTime: 91.0 seconds RetCode: 0 Status: OK PackageFile: SpaceTrooper_0.99.49.tar.gz PackageFileSize: 4.503 MiB