Package: SpaNorm Version: 1.3.1 Command: /home/biocbuild/bbs-3.22-bioc/R/bin/R CMD INSTALL SpaNorm StartedAt: 2025-10-24 16:04:43 -0400 (Fri, 24 Oct 2025) EndedAt: 2025-10-24 16:04:47 -0400 (Fri, 24 Oct 2025) EllapsedTime: 3.1 seconds RetCode: 0 Status: OK