Package: SpaNorm Version: 1.3.1 Command: /home/biocbuild/bbs-3.22-bioc/R/bin/R CMD build --keep-empty-dirs --no-resave-data --md5 SpaNorm StartedAt: 2025-10-24 20:20:18 -0400 (Fri, 24 Oct 2025) EndedAt: 2025-10-24 20:26:22 -0400 (Fri, 24 Oct 2025) EllapsedTime: 364.3 seconds RetCode: 0 Status: OK PackageFile: SpaNorm_1.3.1.tar.gz PackageFileSize: 8.106 MiB