Package: SpaNorm Version: 1.4.0 Command: /Library/Frameworks/R.framework/Resources/bin/R CMD INSTALL SpaNorm StartedAt: 2025-11-10 15:29:10 -0500 (Mon, 10 Nov 2025) EndedAt: 2025-11-10 15:29:12 -0500 (Mon, 10 Nov 2025) EllapsedTime: 2.0 seconds RetCode: 0 Status: OK