Package: SpaNorm Version: 1.4.0 Command: /Library/Frameworks/R.framework/Resources/bin/R CMD build --keep-empty-dirs --no-resave-data SpaNorm StartedAt: 2025-11-10 17:49:37 -0500 (Mon, 10 Nov 2025) EndedAt: 2025-11-10 17:52:07 -0500 (Mon, 10 Nov 2025) EllapsedTime: 150.6 seconds RetCode: 0 Status: OK PackageFile: SpaNorm_1.4.0.tar.gz PackageFileSize: 8.129 MiB