Package: SomaticSignatures Version: 2.46.0 Command: /home/biocbuild/bbs-3.22-bioc/R/bin/R CMD check --install=check:SomaticSignatures.install-out.txt --library=/home/biocbuild/bbs-3.22-bioc/R/site-library --timings SomaticSignatures_2.46.0.tar.gz StartedAt: 2025-11-01 04:26:15 -0400 (Sat, 01 Nov 2025) EndedAt: 2025-11-01 04:35:19 -0400 (Sat, 01 Nov 2025) EllapsedTime: 544.4 seconds RetCode: 0 Status: OK CheckDir: SomaticSignatures.Rcheck Warnings: 0