Package: SomaticSignatures Version: 2.45.1 Command: /home/biocbuild/bbs-3.22-bioc/R/bin/R CMD build --keep-empty-dirs --no-resave-data --md5 SomaticSignatures StartedAt: 2025-10-24 20:19:24 -0400 (Fri, 24 Oct 2025) EndedAt: 2025-10-24 20:22:02 -0400 (Fri, 24 Oct 2025) EllapsedTime: 158.1 seconds RetCode: 0 Status: OK PackageFile: SomaticSignatures_2.45.1.tar.gz PackageFileSize: 2.184 MiB