Package: SomaticSignatures Version: 2.45.1 Command: /Library/Frameworks/R.framework/Resources/bin/R CMD build --keep-empty-dirs --no-resave-data SomaticSignatures StartedAt: 2025-10-24 18:51:51 -0400 (Fri, 24 Oct 2025) EndedAt: 2025-10-24 18:55:01 -0400 (Fri, 24 Oct 2025) EllapsedTime: 189.5 seconds RetCode: 0 Status: OK PackageFile: SomaticSignatures_2.45.1.tar.gz PackageFileSize: 2.819 MiB