Package: SomaticSignatures Version: 2.45.1 Command: /Library/Frameworks/R.framework/Resources/bin/R CMD INSTALL SomaticSignatures StartedAt: 2025-10-24 15:26:13 -0400 (Fri, 24 Oct 2025) EndedAt: 2025-10-24 15:26:35 -0400 (Fri, 24 Oct 2025) EllapsedTime: 22.5 seconds RetCode: 0 Status: OK