Package: SomaticSignatures Version: 2.45.1 Command: /Library/Frameworks/R.framework/Resources/bin/R CMD build --keep-empty-dirs --no-resave-data SomaticSignatures StartedAt: 2025-10-24 17:48:35 -0400 (Fri, 24 Oct 2025) EndedAt: 2025-10-24 17:49:48 -0400 (Fri, 24 Oct 2025) EllapsedTime: 72.8 seconds RetCode: 0 Status: OK PackageFile: SomaticSignatures_2.45.1.tar.gz PackageFileSize: 2.818 MiB