Package: SomaticSignatures Version: 2.45.1 Command: rm -rf SomaticSignatures.buildbin-libdir && mkdir SomaticSignatures.buildbin-libdir && /Users/biocbuild/BBS/utils/build-universal.sh SomaticSignatures_2.45.1.tar.gz /Library/Frameworks/R.framework/Resources/bin/R SomaticSignatures.buildbin-libdir StartedAt: 2025-10-24 23:20:42 -0400 (Fri, 24 Oct 2025) EndedAt: 2025-10-24 23:21:07 -0400 (Fri, 24 Oct 2025) EllapsedTime: 24.5 seconds RetCode: 0 Status: OK PackageFile: SomaticSignatures_2.45.1.tgz PackageFileSize: 3.51 MiB