Package: SmartPhos Version: 0.99.30 Command: /Library/Frameworks/R.framework/Resources/bin/R CMD INSTALL SmartPhos StartedAt: 2025-10-24 15:22:31 -0400 (Fri, 24 Oct 2025) EndedAt: 2025-10-24 15:22:44 -0400 (Fri, 24 Oct 2025) EllapsedTime: 13.4 seconds RetCode: 0 Status: OK