Package: SmartPhos Version: 0.99.30 Command: /Library/Frameworks/R.framework/Resources/bin/R CMD build --keep-empty-dirs --no-resave-data SmartPhos StartedAt: 2025-10-24 17:47:46 -0400 (Fri, 24 Oct 2025) EndedAt: 2025-10-24 17:48:27 -0400 (Fri, 24 Oct 2025) EllapsedTime: 41.5 seconds RetCode: 0 Status: OK PackageFile: SmartPhos_0.99.30.tar.gz PackageFileSize: 20.22 MiB