Package: SmartPhos Version: 0.99.30 Command: rm -rf SmartPhos.buildbin-libdir && mkdir SmartPhos.buildbin-libdir && /Users/biocbuild/BBS/utils/build-universal.sh SmartPhos_0.99.30.tar.gz /Library/Frameworks/R.framework/Resources/bin/R SmartPhos.buildbin-libdir StartedAt: 2025-10-24 23:20:34 -0400 (Fri, 24 Oct 2025) EndedAt: 2025-10-24 23:20:49 -0400 (Fri, 24 Oct 2025) EllapsedTime: 15.3 seconds RetCode: 0 Status: OK PackageFile: SmartPhos_0.99.30.tgz PackageFileSize: 13.38 MiB