Package: Site2Target Version: 1.1.0 Command: /home/biocbuild/bbs-3.22-bioc/R/bin/R CMD INSTALL Site2Target StartedAt: 2025-10-24 15:26:52 -0400 (Fri, 24 Oct 2025) EndedAt: 2025-10-24 15:26:55 -0400 (Fri, 24 Oct 2025) EllapsedTime: 2.3 seconds RetCode: 0 Status: OK